BEGIN:VCALENDAR
VERSION:2.0
PRODID:-//tourismindiaonline.com - ECPv5.6.0//NONSGML v1.0//EN
CALSCALE:GREGORIAN
METHOD:PUBLISH
X-WR-CALNAME:tourismindiaonline.com
X-ORIGINAL-URL:https://tourismindiaonline.com
X-WR-CALDESC:Events for tourismindiaonline.com
BEGIN:VTIMEZONE
TZID:UTC
BEGIN:STANDARD
TZOFFSETFROM:+0000
TZOFFSETTO:+0000
TZNAME:UTC
DTSTART:20250101T000000
END:STANDARD
END:VTIMEZONE
BEGIN:VEVENT
DTSTART;TZID=UTC:20250812T080000
DTEND;TZID=UTC:20250813T170000
DTSTAMP:20260424T082119
CREATED:20241212T154434Z
LAST-MODIFIED:20250515T161404Z
UID:32590-1754985600-1755104400@tourismindiaonline.com
SUMMARY:KAJLI TEEJ FESTIVAL
DESCRIPTION:KAJLI TEEJ FESTIVAL from 12-13 August\, 2025  Bundi\, Rajasthan
URL:https://tourismindiaonline.com/tourism-events/kajli-teej-festival-2/
CATEGORIES:Festivals,Tourism Events
END:VEVENT
END:VCALENDAR