BEGIN:VCALENDAR
VERSION:2.0
PRODID:-//tourismindiaonline.com - ECPv5.6.0//NONSGML v1.0//EN
CALSCALE:GREGORIAN
METHOD:PUBLISH
X-WR-CALNAME:tourismindiaonline.com
X-ORIGINAL-URL:https://tourismindiaonline.com
X-WR-CALDESC:Events for tourismindiaonline.com
BEGIN:VTIMEZONE
TZID:UTC
BEGIN:STANDARD
TZOFFSETFROM:+0000
TZOFFSETTO:+0000
TZNAME:UTC
DTSTART:20250101T000000
END:STANDARD
END:VTIMEZONE
BEGIN:VEVENT
DTSTART;TZID=UTC:20250902T080000
DTEND;TZID=UTC:20250904T170000
DTSTAMP:20260424T064709
CREATED:20250606T121500Z
LAST-MODIFIED:20250908T122014Z
UID:34569-1756800000-1757005200@tourismindiaonline.com
SUMMARY:ITB India
DESCRIPTION:ITB India serves as an essential platform for global engagement and collaboration
URL:https://tourismindiaonline.com/tourism-events/itb-india/
LOCATION:Jio World Convention Centre in Mumbai\, Mumbai
CATEGORIES:Tourism Events
END:VEVENT
END:VCALENDAR